BEGIN:VCALENDAR
VERSION:2.0
PRODID:-//Meadowbrook Country Club - ECPv6.15.18//NONSGML v1.0//EN
CALSCALE:GREGORIAN
METHOD:PUBLISH
X-ORIGINAL-URL:https://www.meadowbrookracine.com
X-WR-CALDESC:Events for Meadowbrook Country Club
REFRESH-INTERVAL;VALUE=DURATION:PT1H
X-Robots-Tag:noindex
X-PUBLISHED-TTL:PT1H
BEGIN:VTIMEZONE
TZID:UTC
BEGIN:STANDARD
TZOFFSETFROM:+0000
TZOFFSETTO:+0000
TZNAME:UTC
DTSTART:20230101T000000
END:STANDARD
END:VTIMEZONE
BEGIN:VEVENT
DTSTART;TZID=UTC:20241114T180000
DTEND;TZID=UTC:20241114T190000
DTSTAMP:20260421T083314
CREATED:20241114T193026Z
LAST-MODIFIED:20241114T193026Z
UID:1099-1731607200-1731610800@www.meadowbrookracine.com
SUMMARY:Membership Communication Meeting
DESCRIPTION:Meeting for member’s: topics discussed will range from new member recognition\, past/future investments\, financial trends\, and upcoming events. 
URL:https://www.meadowbrookracine.com/event/membership-communication-meeting/
LOCATION:Meadowbrook Country Club
END:VEVENT
END:VCALENDAR